Workbook

Sheet A&L
B1: AUSTRALIAN MORTGAGE CALCULATOR
K2: Person 1 | L2: Future Assessed Income | M2: =IF(C20=0,0,IF(C28="Single",0.8*52*(C47+C50+C53)+(0.5*C21)+C20+(Servicing!I6*12),C20+(0.5*C21)+(0.4*52*(C47+C50+C53))+(0.5*(Servicing!I6*12)))) -> 123520 | O2: P1 - Future Assessed Income
B3: Qualification | L3: Net Income | M3: =M2-M24 -> 121287.33 | O3: P1 - Net Income
B4: Property | C4: Servicing | D4: Equity | E4: Outcome | I4: CRM Fields
B5: Direct Purchase | C5: =IF(Servicing!I12>=Servicing!I4, "Pass", IF(Servicing!I12>=Servicing!I4-100000, "Refer", "Fail" ) ) -> Pass | D5: =IF((Servicing!C20 + Servicing!C31)>=(0.3*Servicing!C49),"Pass","Fail") -> Pass | E5: =IF(OR(C5="Fail",D5="Fail"),"Fail", IF(OR(C5="Refer",D5="Refer"),"Refer", "Pass")) -> Pass | I5: IP Outcome | K5: Person 2 | L5: Future Assessed Income | M5: =IF(C24=0,0,IF(C28="Single",0,0.4*52*(C47+C50+C53)+C24+(C25*0.5)+0.5*(Servicing!I6*12))) -> 153520 | O5: P2 - Future Assessed Income
B6: SMSF Purchase | C6: =IF((Servicing!I24+Servicing!C58)>=Servicing!I18, "Pass", IF((Servicing!I24+Servicing!C58)>=Servicing!I18-100000, "Refer", "Fail" ) ) -> Pass | D6: =IF(Servicing!C58>=Servicing!I17*0.3,"Pass","Fail") -> Pass | E6: =IF(OR(C6="Fail",D6="Fail"),"Fail", IF(OR(C6="Refer",D6="Refer"),"Refer", "Pass")) -> Pass | I6: SMSF Outcome | L6: Net Income | M6: =M5-M25 -> 150381.08 | O6: P2 - Net Income
B7: Refi Outcome | C7: =IF(OR(AND(Servicing!C30<=0.8,C39>=Servicing!F34,(C38+C43+C44+C46+C49+C52)>=Servicing!F36),AND(Servicing!C30>=0.8,Servicing!C30<0.85,C39>=Servicing!F35,(C38+C43+C44+C46+C49+C52)>=Servicing!F36)),"Pass","Fail") -> Fail | D7: =IF(Servicing!C17=0,"Fail", IF(Servicing!C18<=Servicing!C17*0.8,"Pass", IF(Servicing!C18<=Servicing!C17*0.9,"Refer", "Fail"))) -> Pass | E7: =IF(OR(C7="Fail",D7="Fail"),"Fail", IF(OR(C7="Refer",D7="Refer"),"Refer", "Pass")) -> Fail | I7: Refi Outcome
K8: EXPENSES
B9: Borrowing Capacity | K9: Home Loan & Other Loans (Annual) | M9: =(Servicing!C34+Servicing!C41+Servicing!C43)*12 -> 43753.424 | O9: Home Loan & Other Loans (Annual)
B10: Borrowing Capacity | C10: =IF(Servicing!C13<=0,0,Servicing!I12) -> 783372.34 | I10: IP BC Personal | K10: Investment Loans (Annual) | M10: =(Servicing!C35+Servicing!C36+Servicing!C37)*12 -> 0 | O10: Investment Loans (Annual)
B11: BC - 50% Savings | C11: =IF(Servicing!C13<=0,0,Servicing!I12+('A&L'!C42*0.5)) -> 795872.34 | I11: BC - 50% Savings | K11: Other Living Costs | M11: =((C40*52)+(C31+C32+C33+C34)*12)+(Servicing!C39*12) -> 456 | O11: Other Living Costs
B12: Equity BC | C12: =Servicing!C31*4 -> 720000 | I12: Usable Equity | K12: HEM | M12: =Servicing!C47-1000 -> 5436 | O12: HEM
B13: Equity BC - 50% Savings | C13: =Servicing!C31*4+('A&L'!C42*0.5) -> 732500 | I13: Equity BC - 50% Savings | K13: Assessed Commitments | M13: =1.01*(M9+M10+M11+M12) -> 50141.878 | O13: Assessed Commitments
B14: Debt to Income | C14: =IF(Servicing!C11=0,0,(Servicing!C18+Servicing!C22+Servicing!C25+Servicing!C28+Servicing!I4)/(Servicing!C11*12)) -> 5.8747123 | I14: Debt to Income
B15: SMSF Servicing BC | C15: =IF(Servicing!C59<=0,0,Servicing!I24) -> 413072.01 | I15: IP BC Super | K15: SERVICING
B16: SMSF Equity BC | C16: =MAX(0,Servicing!C58/0.3) -> 766666.67 | I16: Available SMSF Equity | K16: Servicing Income | M16: =M3+M6-M13 -> 221526.54 | O16: Servicing Income
B18: Personal Details | K18: Net Usable Equity, LVR, & Total Debt
B19: Person 1 | K19: Net (Usable) Equity | M19: =Servicing!C31 -> 180000 | O19: Net (Usable) Equity
B20: Base Salary | C20: 110000 | I20: P1 - Income (Base Salary) | K20: Total LVR (inc CC & Personal Loans) | M20: =IFERROR((C38+C43+C44+C46+C49+C52)/(C37+C45+C48+C51),0) -> 0.60111111 | O20: Total LVR (inc CC & Personal Loans)
B21: Overtime, Commission, Bonus | I21: P1 - Overtime, Commission, Bonus | K21: Total Debt (inc CC & Personal Loans) | M21: =C38+C43+C44+C46+C49+C52 -> 541000 | O21: Total Debt (inc CC & Personal Loans)
B22: Super Balance | C22: 130000 | I22: P1 - Super Balance
B23: Person 2 | K23: Tax
B24: Base Salary | C24: 140000 | I24: P2 - Income (Base Salary) | K24: Person 1 Tax Payable | M24: =(Servicing!C3+Servicing!C4)-Servicing!C5 -> 2232.6667 | O24: P1 - Servicing Tax Payable
B25: OT, Commission, Bonus | I25: P2 - Overtime, Commission, Bonus | K25: Person 2 Tax Payable | M25: =(Servicing!C6+Servicing!C7)-Servicing!C8 -> 3138.9167 | O25: P2 - Tax Payables
B26: Super Balance | C26: 120000 | I26: P2 - Super Balance
B27: Number of Dependents | C27: 2 | I27: Number of Dependents | K27: SMSF
B28: Marital Status | C28: Couple | I28: Marital Status | K28: Person 1 Assessed SGC | M28: =Servicing!C54 -> 13200 | O28: P1 - Assessed SGC
K29: Person 2 Assessed SGC | M29: =Servicing!C56 -> 16800 | O29: P2 Assessed SGC
B30: Expenses & Regular Commitments | K30: SMSF IP Assessed Rent | M30: =IF(Servicing!C54=0,0,Servicing!I19*12) -> 20280 | O30: SMSF IP - Assessed Rent
B31: Childcare (monthly) | I31: Childcare - Monthly | K31: Monthly SMSF BC Servicing Income | M31: =IF(Servicing!C54=0,0,(SUM(M28:M30)/12)-208.33) -> 3981.67 | O31: Monthly SMSF BC Servicing Income
B32: Child Support (monthly) | I32: Child Support/Maintenance - Monthly | K32: Available SMSF Equity | M32: =MAX(0,Servicing!C58) -> 230000 | O32: Available SMSF Equity
B33: Private School Fees (monthly) | I33: Private School Fees - Monthly
B34: Health Insurance (monthly) | I34: Health Insurance - Monthly
B36: Assets & Liabilities
B37: Home Value | C37: 900000 | I37: Home Value
B38: Home Loan Balance | C38: 540000 | I38: Mortgage
B39: Home Interest Rate | I39: Home Mortgage Interest Rate
B40: Home Rent (weekly) | I40: Rent (Weekly)
B41: Funds for Renovations | I41: Renovations
B42: Total Savings | C42: 25000 | I42: Total Savings
...

Sheet Servicing
B2: Calculations - Income - DO NOT EDIT | E2: Assumptions - Direct - CAN EDIT | H2: Scenario - Direct - DO NOT EDIT
B3: Applicant 1 Gross Monthly Base Income | C3: ='A&L'!C20/12 -> 9166.6667 | E3: Assessment Rate Buffer | F3: 0.03 | H3: Purchase Price | I3: 500000
B4: Applicant 1 Gross Monthly Shaded Income | C4: ='A&L'!C21/12 -> 0 | E4: Assessment Floor Rate | F4: 0.065 | H4: Total Funds Required | I4: =I3*1.1 -> 550000
B5: Applicant 1 Net Monthly Income | C5: =IF(C3+(C4*F8)=0,0, (C3+(C4*F8))- ( _xlfn.XLOOKUP((C3+(C4*F8))*12,Tax!$A$3:$A$7,Tax!$C$3:$C$7,,-1) +(((C3+(C4*F8))*12)-_xlfn.XLOOKUP((C3+(C4*F8))*12,Tax!$A$3:$A$7,Tax!$E$3:$E$7,,-1)) *_xlfn.XLOOKUP((C3+(C4*F8))*12,Tax!$A$3:$A$7,Tax!$D$3:$D$7,,-1) +((C3+(C4*F8))*12)*Tax!$H$3 )/12) -> 6934 | E5: Assessment Rate Personal | F5: =F3+F4 -> 0.095 | H5: Property Expenses Monthly | I5: 300
B6: Applicant 2 Gross Monthly Base Income | C6: ='A&L'!C24/12 -> 11666.667 | E6: New Loan Term (Years) | F6: 30 | H6: Expected Rent Monthly | I6: =520*52/12 -> 2253.3333
B7: Applicant 2 Gross Monthly Shaded Income | C7: ='A&L'!C25/12 -> 0 | E7: Rent Shading | F7: 0.8 | H7: Negative Gearing Benefit | I7: =I14*C14 -> 619.02126
B8: Applicant 2 Net Monthly Income | C8: =IF(C6+(C7*F8)=0,0, (C6+(C7*F8))- ( _xlfn.XLOOKUP((C6+(C7*F8))*12,Tax!$A$3:$A$7,Tax!$C$3:$C$7,,-1) +(((C6+(C7*F8))*12)-_xlfn.XLOOKUP((C6+(C7*F8))*12,Tax!$A$3:$A$7,Tax!$E$3:$E$7,,-1)) *_xlfn.XLOOKUP((C6+(C7*F8))*12,Tax!$A$3:$A$7,Tax!$D$3:$D$7,,-1) +((C6+(C7*F8))*12)*Tax!$H$3 )/12) -> 8527.75 | E8: Variable Income Shading | F8: 0.8 | H8: Net Income Monthly | I8: =C11+(I6*0.8) -> 17264.417
B9: Net Monthly Total Income | C9: =C5+C8 -> 15461.75 | E9: Target NSR | F9: 1 | H9: Total Expenses | I9: =C12+I5 -> 10420.119
B10: Current Rental Income | C10: =('A&L'!C47+'A&L'!C50+'A&L'!C53)*0.8*52/12 -> 0 | E10: Mortgage Loan Term | F10: 25 | H10: Monthly Surplus | I10: =I8-I9 -> 6844.298
B11: Total Monthly Assessed Income | C11: =C9+C10 -> 15461.75 | E11: Personal Loan Term | F11: 5 | H11: NRS Applied | I11: =I10*F9 -> 6844.298
B12: Existing Commitments Monthly | C12: =C44+C47+C48 -> 10120.119 | E12: OO Interest rate | F12: 0.065 | H12: Maximum Loan Amount | I12: =PV(F5/12, F10*12, -I11, 0) -> 783372.34
B13: Monthly Surplus | C13: =(C10+C11)-C12 -> 5341.6313 | E13: INV Interest rate | F13: 0.07 | H13: Interest Expense Monthly | I13: =(I4*F5)/12 -> 4354.1667
B14: Effective tax rate | C14: =IF((C3+C4+C6+C7+C10)=0,0,((C3+C4+C6+C7+C10)-C9)/(C3+C4+C6+C7+C10)) -> 0.257836 | E14: Credit Card Interest Rate | F14: 0.038 | H14: Rental Loss Monthly | I14: =MAX(0,I13 + I5 - I6) -> 2400.8333
E15: Loan Interest rate | F15: 0.12
B16: Calculations - Assets - DO NOT EDIT | H16: Scenario - SMSF - DO NOT EDIT
B17: Home Value | C17: ='A&L'!C37 -> 900000 | E17: Assumptions - SMSF - CAN EDIT | H17: Proposed Purchase Price | I17: 500000
B18: Home Mortgage Balance | C18: ='A&L'!C38 -> 540000 | E18: SMSF Max LVR | F18: 0.8 | H18: Total Funds Required | I18: =I17*1.1 -> 550000
B19: Home Available Equity at 80% LVR | C19: =(C17*0.8)-C18 -> 180000 | E19: SMSF Rent Shading | F19: 0.8 | H19: Expected Rent Monthly | I19: =390*52/12 -> 1690
B20: Savings Value | C20: ='A&L'!C42 -> 25000 | E20: SMSF Net Yield Default | F20: 0.045 | H20: Property Expenses Monthly | I20: 300
B21: IP 1 Value | C21: ='A&L'!C45 -> 0 | E21: SMSF Fund Expenses Default | F21: 2500 | H21: Fund Expenses Monthly | I21: =F21/12 -> 208.33333
B22: IP 1 Mortgage Balance | C22: ='A&L'!C46 -> 0 | E22: SMSF Assessment Buffer | F22: 0.02 | H22: Total Expenses Monthly | I22: =I20+I21 -> 508.33333
B23: IP 1 Available Equity at 80% LVR | C23: =(C21*0.8)-C22 -> 0 | E23: SMSF Assessment Floor Rate | F23: 0.075 | H23: SMSF Surplus Monthly | I23: =(C59/12)+I19-I22 -> 3473.3333
B24: IP 2 Value | C24: ='A&L'!C48 -> 0 | E24: SMSF Assessment Rate Override | F24: =F22+F23 -> 0.095 | H24: Maximum Loan Amount | I24: =IF(I23<=0,0, PV(F24/12,F25*12,-I23,0) ) -> 413072.01
B25: IP 2 Mortgage Balance | C25: ='A&L'!C49 -> 0 | E25: Loan Term | F25: 30
B26: IP 2 Available Equity at 80% LVR | C26: =(C24*0.8)-C25 -> 0 | H26: Scenario - Refi - DO NOT EDIT
B27: IP 3 Value | C27: ='A&L'!C51 -> 0 | E27: Assumptions - REFI - CAN EDIT | H27: Refinance Amount | I27: =C18 -> 540000
B28: IP 3 Mortgage Balance | C28: ='A&L'!C52 -> 0 | E28: Assessment Rate Buffer | F28: 0.03 | H28: Cash Out Required | I28: ='A&L'!C41+2500 -> 2500
B29: IP 3 Available Equity at 80% LVR | C29: =(C27*0.8)-C28 -> 0 | E29: Assessment Floor Rate | F29: 0.065 | H29: Loan Required | I29: =I27+I28 -> 542500
B30: Total LVR | C30: =IFERROR((C18+C22+C25+C28+C40+C38)/(C17+C21+C24+C27),0) -> 0.60111111 | E30: Assessment Rate Personal | F30: =F28+F29 -> 0.095 | H30: Proposed Repayment | I30: =PMT(F12/12,F31*12,-I29) -> 3428.969
B31: Total Available Equity | C31: =C19+C23+C26+C29 -> 180000 | E31: New Loan Term (Years) | F31: 30 | H31: Net Income Monthly | I31: =C11 -> 15461.75
E32: Rent Shading | F32: 0.8 | H32: Total Expenses | I32: =(C12-C34)+I30 -> 9902.969
B33: Calculations - Liabilities - DO NOT EDIT | E33: Variable Income Shading | F33: 0.8 | H33: Monthly Surplus | I33: =I31-I32 -> 5558.781
B34: Home Loan Repayment | C34: =IF(C18>0,PMT(F12/12,F10*12,-C18),0) -> 3646.1187 | E34: Interest Rate Cut Off 80LVR | F34: 0.065 | H34: NRS Applied | I34: =I33*F37 -> 5836.72
B35: IP 1 Repayment | C35: =IF(C22>0,PMT(F13/12,F10*12,-C22),0) -> 0 | E35: Interest Rate Cut Off 85LVR | F35: 0.07 | H35: Maximum Loan Amount | I35: =PV(F5/12, F31*12, -I34, 0) -> 694141.74
B36: IP 2 Repayment | C36: =IF(C25>0,PMT(F13/12,F10*12,-C25),0) -> 0 | E36: Minimum Debt Level | F36: 400000
B37: IP 3 Repayment | C37: =IF(C28>0,PMT(F13/12,F10*12,-C28),0) -> 0 | E37: Target NSR | F37: 1.05
B38: Credit Card Limit | C38: ='A&L'!C44 -> 1000
B39: Credit Card Repayment | C39: =IF(C38>0,C38*F14,0) -> 38
B40: Personal Loan Balance | C40: ='A&L'!C43 -> 0
B41: Personal Loan Repayment | C41: =IF(C40>0,PMT(F15/12,F11*12,-C40),0) -> 0
...

Sheet HEM
A1: Household Type | B1: Dependents | C1: Income Range (up to) | D1: HEM Monthly
A2: Couple | B2: 0 | C2: 104000 | D2: 3260
A3: Couple | B3: 0 | C3: 156000 | D3: 3913
A4: Couple | B4: 0 | C4: 208000 | D4: 4270
A5: Couple | B5: 0 | C5: 261000 | D5: 4765
A6: Couple | B6: 0 | C6: 300000 | D6: 5247
A7: Couple | B7: 1 | C7: 104000 | D7: 3643
A8: Couple | B8: 1 | C8: 156000 | D8: 4309
A9: Couple | B9: 1 | C9: 208000 | D9: 4667
A10: Couple | B10: 1 | C10: 261000 | D10: 5165
A11: Couple | B11: 1 | C11: 300000 | D11: 5617
A12: Couple | B12: 2 | C12: 104000 | D12: 3932
A13: Couple | B13: 2 | C13: 156000 | D13: 4585
... A41: Single | B41: 3 | C41: 300000 | D41: 5286

Sheet Tax
A1: TAX (AU resident, simplified 2025–26 brackets)
A2: Bracket from | B2: Bracket to | C2: Base tax | D2: Marginal rate | E2: Offset
A3: 0 | B3: 18200 | C3: 0 | D3: 0 | E3: 0 | G3: Medicare levy rate | H3: 0.02
A4: 18200 | B4: 45000 | C4: 0 | D4: 0.16 | E4: 18200
A5: 45000 | B5: 135000 | C5: 5092 | D5: 0.3 | E5: 45000
A6: 135000 | B6: 190000 | C6: 27467 | D6: 0.37 | E6: 120000
A7: 190000 | B7: 1000000 | C7: 51667 | D7: 0.45 | E7: 180000
A9: ReFi Variables
A10: Interest Rate cut of 80% LVR | B10: 0.065
A11: Interest Rate cut of 85% LVR | B11: 0.07
A12: Minimum Debt Level | B12: 400000
